BEGIN:VCALENDAR
VERSION:2.0
PRODID:-//Briissoise GR - ECPv5.9.0//NONSGML v1.0//EN
CALSCALE:GREGORIAN
METHOD:PUBLISH
X-WR-CALNAME:Briissoise GR
X-ORIGINAL-URL:http://briis-gr.fr
X-WR-CALDESC:évènements pour Briissoise GR
BEGIN:VTIMEZONE
TZID:Europe/Paris
BEGIN:DAYLIGHT
TZOFFSETFROM:+0100
TZOFFSETTO:+0200
TZNAME:CEST
DTSTART:20220327T010000
END:DAYLIGHT
BEGIN:STANDARD
TZOFFSETFROM:+0200
TZOFFSETTO:+0100
TZNAME:CET
DTSTART:20221030T010000
END:STANDARD
END:VTIMEZONE
BEGIN:VEVENT
DTSTART;TZID=Europe/Paris:20220528T080000
DTEND;TZID=Europe/Paris:20220529T170000
DTSTAMP:20260425T135955
CREATED:20220206T114126Z
LAST-MODIFIED:20220228T091019Z
UID:2725-1653724800-1653843600@briis-gr.fr
SUMMARY:Championnat de France Ensemble National
DESCRIPTION:GR - CF Élite Équipes Ensembles 2022 - Programme prévisionnel
URL:http://briis-gr.fr/agenda/championnat-de-france-ensemble-national/
LOCATION:Calais
END:VEVENT
END:VCALENDAR